BEGIN:VCALENDAR
VERSION:2.0
PRODID:SchoolNow
CALSCALE:GREGORIAN
BEGIN:VEVENT
UID:6c33c8e6-7251-11f0-be97-029ea1ab5cf7
DTSTAMP:20260423T073507Z
SUMMARY:Finals 5\, 6 - students leave @ 12:55 PM
URL;VALUE=URI:https://www.tusd.org/schools/west-high-school/calendar/847375
 9/finals-5-6-students-leave-12-55-pm
DTSTART;VALUE=DATE:20260611
DTEND;VALUE=DATE:20260612
END:VEVENT
END:VCALENDAR
