BEGIN:VCALENDAR
VERSION:2.0
PRODID:SchoolNow
CALSCALE:GREGORIAN
BEGIN:VEVENT
UID:6c33c80a-7251-11f0-9837-029ea1ab5cf7
DTSTAMP:20260423T073507Z
SUMMARY:Graduation
URL;VALUE=URI:https://www.tusd.org/schools/west-high-school/calendar/847375
 8/graduation
DTSTART:20260610T230000Z
DTEND:20260611T000000Z
END:VEVENT
END:VCALENDAR
