BEGIN:VCALENDAR
VERSION:2.0
PRODID:SchoolNow
CALSCALE:GREGORIAN
BEGIN:VEVENT
UID:6c33c72e-7251-11f0-8555-029ea1ab5cf7
DTSTAMP:20260423T073507Z
SUMMARY:Finals 0\, 3\, 4 - students leave @ 12:55 PM
URL;VALUE=URI:https://www.tusd.org/schools/west-high-school/calendar/847375
 7/finals-0-3-4-students-leave-12-55-pm
DTSTART;VALUE=DATE:20260610
DTEND;VALUE=DATE:20260611
END:VEVENT
END:VCALENDAR
