BEGIN:VCALENDAR
VERSION:2.0
PRODID:SchoolNow
CALSCALE:GREGORIAN
BEGIN:VEVENT
UID:6c33c648-7251-11f0-bd9b-029ea1ab5cf7
DTSTAMP:20260423T073507Z
SUMMARY:Finals 0\, 1\, 2 - students leave @ 12:55 PM
URL;VALUE=URI:https://www.tusd.org/schools/west-high-school/calendar/847375
 6/finals-0-1-2-students-leave-12-55-pm
DTSTART;VALUE=DATE:20260609
DTEND;VALUE=DATE:20260610
END:VEVENT
END:VCALENDAR
