BEGIN:VCALENDAR
VERSION:2.0
PRODID:SchoolNow
CALSCALE:GREGORIAN
BEGIN:VEVENT
UID:6c33c56c-7251-11f0-a74d-029ea1ab5cf7
DTSTAMP:20260423T073507Z
SUMMARY:Grad Practice
LOCATION:Gym
URL;VALUE=URI:https://www.tusd.org/schools/west-high-school/calendar/847375
 5/grad-practice
DTSTART:20260609T170000Z
DTEND:20260609T200000Z
END:VEVENT
END:VCALENDAR
