BEGIN:VCALENDAR
VERSION:2.0
PRODID:SchoolNow
CALSCALE:GREGORIAN
BEGIN:VEVENT
UID:6c33c3b4-7251-11f0-8ae9-029ea1ab5cf7
DTSTAMP:20260423T073507Z
SUMMARY:Senior Grad Night Celebration @ Knott's Berry Farm
URL;VALUE=URI:https://www.tusd.org/schools/west-high-school/calendar/847375
 3/senior-grad-night-celebration-knotts-berry-farm
DTSTART;VALUE=DATE:20260604
DTEND;VALUE=DATE:20260605
END:VEVENT
END:VCALENDAR
