BEGIN:VCALENDAR
VERSION:2.0
PRODID:SchoolNow
CALSCALE:GREGORIAN
BEGIN:VEVENT
UID:6c33c2ce-7251-11f0-b336-029ea1ab5cf7
DTSTAMP:20260423T073507Z
SUMMARY:Baccalaureate
LOCATION:Gym
URL;VALUE=URI:https://www.tusd.org/schools/west-high-school/calendar/847375
 2/baccalaureate
DTSTART:20260606T010000Z
DTEND:20260606T020000Z
END:VEVENT
END:VCALENDAR
