BEGIN:VCALENDAR
VERSION:2.0
PRODID:SchoolNow
CALSCALE:GREGORIAN
BEGIN:VEVENT
UID:6c33c1e8-7251-11f0-97f4-029ea1ab5cf7
DTSTAMP:20260423T073507Z
SUMMARY:Alumni Day at the West Area Elementary Schools
URL;VALUE=URI:https://www.tusd.org/schools/west-high-school/calendar/847375
 1/alumni-day-at-the-west-area-elementary-schools
DTSTART:20260608T203000Z
DTEND:20260608T224500Z
END:VEVENT
END:VCALENDAR
