BEGIN:VCALENDAR
VERSION:2.0
PRODID:SchoolNow
CALSCALE:GREGORIAN
BEGIN:VEVENT
UID:6c33c10c-7251-11f0-afe7-029ea1ab5cf7
DTSTAMP:20260423T073507Z
SUMMARY:Grad packet pick-up
URL;VALUE=URI:https://www.tusd.org/schools/west-high-school/calendar/847375
 0/grad-packet-pick-up
DTSTART;VALUE=DATE:20260605
DTEND;VALUE=DATE:20260606
END:VEVENT
END:VCALENDAR
