BEGIN:VCALENDAR
VERSION:2.0
PRODID:SchoolNow
CALSCALE:GREGORIAN
BEGIN:VEVENT
UID:6c33c030-7251-11f0-8a10-029ea1ab5cf7
DTSTAMP:20260423T073507Z
SUMMARY:Seniors vs. Staff Softball Game
LOCATION:Lower Field
URL;VALUE=URI:https://www.tusd.org/schools/west-high-school/calendar/847374
 9/seniors-vs-staff-softball-game
DTSTART:20260604T192200Z
DTEND:20260604T202800Z
END:VEVENT
END:VCALENDAR
