BEGIN:VCALENDAR
VERSION:2.0
PRODID:SchoolNow
CALSCALE:GREGORIAN
BEGIN:VEVENT
UID:6c33be6e-7251-11f0-acd8-029ea1ab5cf7
DTSTAMP:20260423T073507Z
SUMMARY:Baccalaureate Practice
URL;VALUE=URI:https://www.tusd.org/schools/west-high-school/calendar/847374
 7/baccalaureate-practice
DTSTART;VALUE=DATE:20260604
DTEND;VALUE=DATE:20260605
END:VEVENT
END:VCALENDAR
