BEGIN:VCALENDAR
VERSION:2.0
PRODID:SchoolNow
CALSCALE:GREGORIAN
BEGIN:VEVENT
UID:6c33bd88-7251-11f0-934c-029ea1ab5cf7
DTSTAMP:20260423T073507Z
SUMMARY:Play Prod Showcase
LOCATION:PAC
URL;VALUE=URI:https://www.tusd.org/schools/west-high-school/calendar/847374
 6/play-prod-showcase
DTSTART:20260604T020000Z
DTEND:20260604T030000Z
END:VEVENT
END:VCALENDAR
