BEGIN:VCALENDAR
VERSION:2.0
PRODID:SchoolNow
CALSCALE:GREGORIAN
BEGIN:VEVENT
UID:6c33bcac-7251-11f0-9a05-029ea1ab5cf7
DTSTAMP:20260423T073507Z
SUMMARY:PTSA Exec. Board Meeting (In-N-Out Dinner)
LOCATION:PAC
URL;VALUE=URI:https://www.tusd.org/schools/west-high-school/calendar/847374
 5/ptsa-exec-board-meeting-in-n-out-dinner
DTSTART:20260604T013000Z
DTEND:20260604T023000Z
END:VEVENT
END:VCALENDAR
