BEGIN:VCALENDAR
VERSION:2.0
PRODID:SchoolNow
CALSCALE:GREGORIAN
BEGIN:VEVENT
UID:6c33bbc6-7251-11f0-b3d2-029ea1ab5cf7
DTSTAMP:20260423T073507Z
SUMMARY:Beginning Drama Showcase in the PAC
LOCATION:PAC
URL;VALUE=URI:https://www.tusd.org/schools/west-high-school/calendar/847374
 4/beginning-drama-showcase-in-the-pac
DTSTART:20260603T020000Z
DTEND:20260603T030000Z
END:VEVENT
END:VCALENDAR
