BEGIN:VCALENDAR
VERSION:2.0
PRODID:SchoolNow
CALSCALE:GREGORIAN
BEGIN:VEVENT
UID:6c33bacc-7251-11f0-a56d-029ea1ab5cf7
DTSTAMP:20260423T073507Z
SUMMARY:Senior Finals 5\, 6
URL;VALUE=URI:https://www.tusd.org/schools/west-high-school/calendar/847374
 3/senior-finals-5-6
DTSTART;VALUE=DATE:20260603
DTEND;VALUE=DATE:20260604
END:VEVENT
END:VCALENDAR
