BEGIN:VCALENDAR
VERSION:2.0
PRODID:SchoolNow
CALSCALE:GREGORIAN
BEGIN:VEVENT
UID:6c33b8ec-7251-11f0-98e8-029ea1ab5cf7
DTSTAMP:20260423T073507Z
SUMMARY:Senior Finals 0\, 3\, 4
URL;VALUE=URI:https://www.tusd.org/schools/west-high-school/calendar/847374
 2/senior-finals-0-3-4
DTSTART;VALUE=DATE:20260602
DTEND;VALUE=DATE:20260603
END:VEVENT
END:VCALENDAR
