BEGIN:VCALENDAR
VERSION:2.0
PRODID:SchoolNow
CALSCALE:GREGORIAN
BEGIN:VEVENT
UID:6c33b810-7251-11f0-88d8-029ea1ab5cf7
DTSTAMP:20260423T073507Z
SUMMARY:Senior Finals 0\, 1\, 2
URL;VALUE=URI:https://www.tusd.org/schools/west-high-school/calendar/847374
 1/senior-finals-0-1-2
DTSTART;VALUE=DATE:20260601
DTEND;VALUE=DATE:20260602
END:VEVENT
END:VCALENDAR
