BEGIN:VCALENDAR
VERSION:2.0
PRODID:SchoolNow
CALSCALE:GREGORIAN
BEGIN:VEVENT
UID:6c33b72a-7251-11f0-bd51-029ea1ab5cf7
DTSTAMP:20260423T073507Z
SUMMARY:Prom
URL;VALUE=URI:https://www.tusd.org/schools/west-high-school/calendar/847374
 0/prom
DTSTART:20260531T020000Z
DTEND:20260531T060000Z
END:VEVENT
END:VCALENDAR
