BEGIN:VCALENDAR
VERSION:2.0
PRODID:SchoolNow
CALSCALE:GREGORIAN
BEGIN:VEVENT
UID:6c33b644-7251-11f0-a483-029ea1ab5cf7
DTSTAMP:20260423T073507Z
SUMMARY:Senior Decision Day
URL;VALUE=URI:https://www.tusd.org/schools/west-high-school/calendar/847373
 9/senior-decision-day
DTSTART;VALUE=DATE:20260529
DTEND;VALUE=DATE:20260530
END:VEVENT
END:VCALENDAR
