BEGIN:VCALENDAR
VERSION:2.0
PRODID:SchoolNow
CALSCALE:GREGORIAN
BEGIN:VEVENT
UID:6c33b568-7251-11f0-8777-029ea1ab5cf7
DTSTAMP:20260423T073507Z
SUMMARY:Band Spring Concert - PAC
LOCATION:PAC
URL;VALUE=URI:https://www.tusd.org/schools/west-high-school/calendar/847373
 8/band-spring-concert-pac
DTSTART:20260530T020000Z
DTEND:20260530T040000Z
END:VEVENT
END:VCALENDAR
