BEGIN:VCALENDAR
VERSION:2.0
PRODID:SchoolNow
CALSCALE:GREGORIAN
BEGIN:VEVENT
UID:6c33b48c-7251-11f0-ac06-029ea1ab5cf7
DTSTAMP:20260423T073507Z
SUMMARY:Art Show Library
URL;VALUE=URI:https://www.tusd.org/schools/west-high-school/calendar/847373
 7/art-show-library
DTSTART;VALUE=DATE:20260526
DTEND;VALUE=DATE:20260529
END:VEVENT
END:VCALENDAR
