BEGIN:VCALENDAR
VERSION:2.0
PRODID:SchoolNow
CALSCALE:GREGORIAN
BEGIN:VEVENT
UID:6c33b108-7251-11f0-ac5e-029ea1ab5cf7
DTSTAMP:20260423T073507Z
SUMMARY:Senior Goodbye Rally
URL;VALUE=URI:https://www.tusd.org/schools/west-high-school/calendar/847373
 3/senior-goodbye-rally
DTSTART:20260522T192200Z
DTEND:20260522T195500Z
END:VEVENT
END:VCALENDAR
