BEGIN:VCALENDAR
VERSION:2.0
PRODID:SchoolNow
CALSCALE:GREGORIAN
BEGIN:VEVENT
UID:6c33b022-7251-11f0-8121-029ea1ab5cf7
DTSTAMP:20260423T073507Z
SUMMARY:ELMAC #4
URL;VALUE=URI:https://www.tusd.org/schools/west-high-school/calendar/847373
 2/elmac-4
DTSTART:20260521T000000Z
DTEND:20260521T010000Z
END:VEVENT
END:VCALENDAR
