BEGIN:VCALENDAR
VERSION:2.0
PRODID:SchoolNow
CALSCALE:GREGORIAN
BEGIN:VEVENT
UID:6c33af46-7251-11f0-8d0b-029ea1ab5cf7
DTSTAMP:20260423T073507Z
SUMMARY:I Care Faire
URL;VALUE=URI:https://www.tusd.org/schools/west-high-school/calendar/847373
 1/i-care-faire
DTSTART;VALUE=DATE:20260520
DTEND;VALUE=DATE:20260522
END:VEVENT
END:VCALENDAR
