BEGIN:VCALENDAR
VERSION:2.0
PRODID:SchoolNow
CALSCALE:GREGORIAN
BEGIN:VEVENT
UID:6c33ae60-7251-11f0-87d5-029ea1ab5cf7
DTSTAMP:20260423T073507Z
SUMMARY:Blue Ribbon Week - PTSA
URL;VALUE=URI:https://www.tusd.org/schools/west-high-school/calendar/847373
 0/blue-ribbon-week-ptsa
DTSTART;VALUE=DATE:20260518
DTEND;VALUE=DATE:20260523
END:VEVENT
END:VCALENDAR
