BEGIN:VCALENDAR
VERSION:2.0
PRODID:SchoolNow
CALSCALE:GREGORIAN
BEGIN:VEVENT
UID:6c33ad84-7251-11f0-9632-029ea1ab5cf7
DTSTAMP:20260423T073507Z
SUMMARY:PTSA Executive Board Meeting
URL;VALUE=URI:https://www.tusd.org/schools/west-high-school/calendar/847372
 9/ptsa-executive-board-meeting
DTSTART:20260514T013000Z
DTEND:20260514T023000Z
END:VEVENT
END:VCALENDAR
