BEGIN:VCALENDAR
VERSION:2.0
PRODID:SchoolNow
CALSCALE:GREGORIAN
BEGIN:VEVENT
UID:6c33abc2-7251-11f0-ab22-029ea1ab5cf7
DTSTAMP:20260423T073507Z
SUMMARY:Band Jazz Concert - PAC
LOCATION:PAC
URL;VALUE=URI:https://www.tusd.org/schools/west-high-school/calendar/847372
 7/band-jazz-concert-pac
DTSTART:20260516T020000Z
DTEND:20260516T040000Z
END:VEVENT
END:VCALENDAR
