BEGIN:VCALENDAR
VERSION:2.0
PRODID:SchoolNow
CALSCALE:GREGORIAN
BEGIN:VEVENT
UID:6c33aadc-7251-11f0-a82d-029ea1ab5cf7
DTSTAMP:20260423T073507Z
SUMMARY:Incoming 9th Grade Athletics Night
URL;VALUE=URI:https://www.tusd.org/schools/west-high-school/calendar/847372
 6/incoming-9th-grade-athletics-night
DTSTART:20260507T010000Z
DTEND:20260507T020000Z
END:VEVENT
END:VCALENDAR
