BEGIN:VCALENDAR
VERSION:2.0
PRODID:SchoolNow
CALSCALE:GREGORIAN
BEGIN:VEVENT
UID:6c33a91a-7251-11f0-a1c0-029ea1ab5cf7
DTSTAMP:20260423T073507Z
SUMMARY:AP testing May 11-15
URL;VALUE=URI:https://www.tusd.org/schools/west-high-school/calendar/847372
 4/ap-testing-may-11-15
DTSTART;VALUE=DATE:20260511
DTEND;VALUE=DATE:20260516
END:VEVENT
END:VCALENDAR
