BEGIN:VCALENDAR
VERSION:2.0
PRODID:SchoolNow
CALSCALE:GREGORIAN
BEGIN:VEVENT
UID:6c33a83e-7251-11f0-98ad-029ea1ab5cf7
DTSTAMP:20260423T073507Z
SUMMARY:AP testing May 4-8
URL;VALUE=URI:https://www.tusd.org/schools/west-high-school/calendar/847372
 3/ap-testing-may-4-8
DTSTART;VALUE=DATE:20260504
DTEND;VALUE=DATE:20260509
END:VEVENT
END:VCALENDAR
