BEGIN:VCALENDAR
VERSION:2.0
PRODID:SchoolNow
CALSCALE:GREGORIAN
BEGIN:VEVENT
UID:6c33a67c-7251-11f0-a08f-029ea1ab5cf7
DTSTAMP:20260423T073507Z
SUMMARY:Spring Dance Show - PAC
LOCATION:PAC
URL;VALUE=URI:https://www.tusd.org/schools/west-high-school/calendar/847372
 1/spring-dance-show-pac
DTSTART:20260509T020000Z
DTEND:20260509T033000Z
END:VEVENT
END:VCALENDAR
