BEGIN:VCALENDAR
VERSION:2.0
PRODID:SchoolNow
CALSCALE:GREGORIAN
BEGIN:VEVENT
UID:6c33a4ba-7251-11f0-9727-029ea1ab5cf7
DTSTAMP:20260423T073507Z
SUMMARY:Spring Dance Show - PAC
LOCATION:PAC
URL;VALUE=URI:https://www.tusd.org/schools/west-high-school/calendar/847371
 9/spring-dance-show-pac
DTSTART:20260508T020000Z
DTEND:20260508T033000Z
END:VEVENT
END:VCALENDAR
