BEGIN:VCALENDAR
VERSION:2.0
PRODID:SchoolNow
CALSCALE:GREGORIAN
BEGIN:VEVENT
UID:6c33a3d4-7251-11f0-ade3-029ea1ab5cf7
DTSTAMP:20260423T073507Z
SUMMARY:Spring Guided Reading Assessments for EL Students
URL;VALUE=URI:https://www.tusd.org/schools/west-high-school/calendar/847371
 8/spring-guided-reading-assessments-for-el-students
DTSTART;VALUE=DATE:20260430
DTEND;VALUE=DATE:20260501
END:VEVENT
END:VCALENDAR
