BEGIN:VCALENDAR
VERSION:2.0
PRODID:SchoolNow
CALSCALE:GREGORIAN
BEGIN:VEVENT
UID:6c33a21c-7251-11f0-b404-029ea1ab5cf7
DTSTAMP:20260423T073507Z
SUMMARY:Achievement Awards in the Gym
LOCATION:Gym
URL;VALUE=URI:https://www.tusd.org/schools/west-high-school/calendar/847371
 6/achievement-awards-in-the-gym
DTSTART:20260521T010000Z
DTEND:20260521T020000Z
END:VEVENT
END:VCALENDAR
