BEGIN:VCALENDAR
VERSION:2.0
PRODID:SchoolNow
CALSCALE:GREGORIAN
BEGIN:VEVENT
UID:6c33a136-7251-11f0-a13e-029ea1ab5cf7
DTSTAMP:20260423T073507Z
SUMMARY:Swap Meet sponsored by the Softball team
URL;VALUE=URI:https://www.tusd.org/schools/west-high-school/calendar/847371
 5/swap-meet-sponsored-by-the-softball-team
DTSTART:20260425T140000Z
DTEND:20260425T190000Z
END:VEVENT
END:VCALENDAR
