BEGIN:VCALENDAR
VERSION:2.0
PRODID:SchoolNow
CALSCALE:GREGORIAN
BEGIN:VEVENT
UID:6c33a046-7251-11f0-ac84-029ea1ab5cf7
DTSTAMP:20260423T073507Z
SUMMARY:Spring Parent Night with Counselors - College Application Process
URL;VALUE=URI:https://www.tusd.org/schools/west-high-school/calendar/847371
 4/spring-parent-night-with-counselors-college-application-process
DTSTART:20260423T010000Z
DTEND:20260423T020000Z
END:VEVENT
END:VCALENDAR
