BEGIN:VCALENDAR
VERSION:2.0
PRODID:SchoolNow
CALSCALE:GREGORIAN
BEGIN:VEVENT
UID:6c339f60-7251-11f0-a16c-029ea1ab5cf7
DTSTAMP:20260423T073507Z
SUMMARY:PTSA Executive Board Meeting
URL;VALUE=URI:https://www.tusd.org/schools/west-high-school/calendar/847371
 3/ptsa-executive-board-meeting
DTSTART:20260416T013000Z
DTEND:20260416T023000Z
END:VEVENT
END:VCALENDAR
