BEGIN:VCALENDAR
VERSION:2.0
PRODID:SchoolNow
CALSCALE:GREGORIAN
BEGIN:VEVENT
UID:6c339e7a-7251-11f0-b5e0-029ea1ab5cf7
DTSTAMP:20260423T073507Z
SUMMARY:Senior Parent Night/PTSA Association Meeting
LOCATION:PAC
URL;VALUE=URI:https://www.tusd.org/schools/west-high-school/calendar/847371
 2/senior-parent-night-ptsa-association-meeting
DTSTART:20260423T010000Z
DTEND:20260423T020000Z
END:VEVENT
END:VCALENDAR
