BEGIN:VCALENDAR
VERSION:2.0
PRODID:SchoolNow
CALSCALE:GREGORIAN
BEGIN:VEVENT
UID:6c339c68-7251-11f0-8477-029ea1ab5cf7
DTSTAMP:20260423T073507Z
SUMMARY:CAASPP/CAST - English
URL;VALUE=URI:https://www.tusd.org/schools/west-high-school/calendar/847371
 0/caaspp-cast-english
DTSTART;VALUE=DATE:20260419
DTEND;VALUE=DATE:20260420
END:VEVENT
END:VCALENDAR
