BEGIN:VCALENDAR
VERSION:2.0
PRODID:SchoolNow
CALSCALE:GREGORIAN
BEGIN:VEVENT
UID:6c339a9c-7251-11f0-a5da-029ea1ab5cf7
DTSTAMP:20260423T073507Z
SUMMARY:Easter Sunday
URL;VALUE=URI:https://www.tusd.org/schools/west-high-school/calendar/847370
 8/easter-sunday
DTSTART;VALUE=DATE:20260405
DTEND;VALUE=DATE:20260406
END:VEVENT
END:VCALENDAR
