BEGIN:VCALENDAR
VERSION:2.0
PRODID:SchoolNow
CALSCALE:GREGORIAN
BEGIN:VEVENT
UID:6c3396dc-7251-11f0-a799-029ea1ab5cf7
DTSTAMP:20260423T073507Z
SUMMARY:Spring Musical Performance in the PAC
LOCATION:PAC
URL;VALUE=URI:https://www.tusd.org/schools/west-high-school/calendar/847370
 4/spring-musical-performance-in-the-pac
DTSTART:20260327T020000Z
DTEND:20260327T040000Z
END:VEVENT
END:VCALENDAR
