BEGIN:VCALENDAR
VERSION:2.0
PRODID:SchoolNow
CALSCALE:GREGORIAN
BEGIN:VEVENT
UID:6c339510-7251-11f0-9620-029ea1ab5cf7
DTSTAMP:20260423T073507Z
SUMMARY:Blood Drive (National Honor Society)
URL;VALUE=URI:https://www.tusd.org/schools/west-high-school/calendar/847370
 2/blood-drive-national-honor-society
DTSTART;VALUE=DATE:20260324
DTEND;VALUE=DATE:20260325
END:VEVENT
END:VCALENDAR
