BEGIN:VCALENDAR
VERSION:2.0
PRODID:SchoolNow
CALSCALE:GREGORIAN
BEGIN:VEVENT
UID:6c339434-7251-11f0-bd92-029ea1ab5cf7
DTSTAMP:20260423T073507Z
SUMMARY:Spring Musical Performance in the PAC
LOCATION:PAC
URL;VALUE=URI:https://www.tusd.org/schools/west-high-school/calendar/847370
 1/spring-musical-performance-in-the-pac
DTSTART:20260322T010000Z
DTEND:20260322T030000Z
END:VEVENT
END:VCALENDAR
