BEGIN:VCALENDAR
VERSION:2.0
PRODID:SchoolNow
CALSCALE:GREGORIAN
BEGIN:VEVENT
UID:6c33925e-7251-11f0-92c3-029ea1ab5cf7
DTSTAMP:20260423T073507Z
SUMMARY:Spring Musical Performance in the PAC
LOCATION:PAC
URL;VALUE=URI:https://www.tusd.org/schools/west-high-school/calendar/847369
 9/spring-musical-performance-in-the-pac
DTSTART:20260321T020000Z
DTEND:20260321T040000Z
END:VEVENT
END:VCALENDAR
