BEGIN:VCALENDAR
VERSION:2.0
PRODID:SchoolNow
CALSCALE:GREGORIAN
BEGIN:VEVENT
UID:6c33909c-7251-11f0-8f41-029ea1ab5cf7
DTSTAMP:20260423T073507Z
SUMMARY:7th Grade Family Night in Cafe 5
LOCATION:Cafe 5
URL;VALUE=URI:https://www.tusd.org/schools/west-high-school/calendar/847369
 7/7th-grade-family-night-in-cafe-5
DTSTART:20260319T013000Z
DTEND:20260319T023000Z
END:VEVENT
END:VCALENDAR
