BEGIN:VCALENDAR
VERSION:2.0
PRODID:SchoolNow
CALSCALE:GREGORIAN
BEGIN:VEVENT
UID:6c338eda-7251-11f0-8918-029ea1ab5cf7
DTSTAMP:20260423T073507Z
SUMMARY:West Area Music Festival
LOCATION:Gym
URL;VALUE=URI:https://www.tusd.org/schools/west-high-school/calendar/847369
 5/west-area-music-festival
DTSTART:20260312T020000Z
DTEND:20260312T030000Z
END:VEVENT
END:VCALENDAR
