BEGIN:VCALENDAR
VERSION:2.0
PRODID:SchoolNow
CALSCALE:GREGORIAN
BEGIN:VEVENT
UID:6c338d0e-7251-11f0-87b0-029ea1ab5cf7
DTSTAMP:20260421T065507Z
SUMMARY:WHS Vision & Hearing for 10th grade students in Cafe 5
LOCATION:Cafe 5
URL;VALUE=URI:https://www.tusd.org/schools/west-high-school/calendar/847369
 3/whs-vision-hearing-for-10th-grade-students-in-cafe-5
DTSTART;VALUE=DATE:20260310
DTEND;VALUE=DATE:20260311
END:VEVENT
END:VCALENDAR
