BEGIN:VCALENDAR
VERSION:2.0
PRODID:SchoolNow
CALSCALE:GREGORIAN
BEGIN:VEVENT
UID:6c338a70-7251-11f0-a513-029ea1ab5cf7
DTSTAMP:20260423T073507Z
SUMMARY:Warrior News
URL;VALUE=URI:https://www.tusd.org/schools/west-high-school/calendar/847369
 0/warrior-news
DTSTART;VALUE=DATE:20260427
DTEND;VALUE=DATE:20260428
END:VEVENT
END:VCALENDAR
