BEGIN:VCALENDAR
VERSION:2.0
PRODID:SchoolNow
CALSCALE:GREGORIAN
BEGIN:VEVENT
UID:6c3388b8-7251-11f0-9026-029ea1ab5cf7
DTSTAMP:20260423T073507Z
SUMMARY:Warrior News
URL;VALUE=URI:https://www.tusd.org/schools/west-high-school/calendar/847368
 8/warrior-news
DTSTART;VALUE=DATE:20260323
DTEND;VALUE=DATE:20260324
END:VEVENT
END:VCALENDAR
