BEGIN:VCALENDAR
VERSION:2.0
PRODID:SchoolNow
CALSCALE:GREGORIAN
BEGIN:VEVENT
UID:6c3387dc-7251-11f0-be28-029ea1ab5cf7
DTSTAMP:20260423T073507Z
SUMMARY:Warrior News
URL;VALUE=URI:https://www.tusd.org/schools/west-high-school/calendar/847368
 7/warrior-news
DTSTART;VALUE=DATE:20260309
DTEND;VALUE=DATE:20260310
END:VEVENT
END:VCALENDAR
